BEGIN:VCALENDAR
VERSION:2.0
PRODID:-//aggerchor.com - ECPv6.15.20//NONSGML v1.0//EN
CALSCALE:GREGORIAN
METHOD:PUBLISH
X-WR-CALNAME:aggerchor.com
X-ORIGINAL-URL:https://aggerchor.com
X-WR-CALDESC:Veranstaltungen für aggerchor.com
REFRESH-INTERVAL;VALUE=DURATION:PT1H
X-Robots-Tag:noindex
X-PUBLISHED-TTL:PT1H
BEGIN:VTIMEZONE
TZID:Europe/Berlin
BEGIN:DAYLIGHT
TZOFFSETFROM:+0100
TZOFFSETTO:+0200
TZNAME:CEST
DTSTART:20250330T010000
END:DAYLIGHT
BEGIN:STANDARD
TZOFFSETFROM:+0200
TZOFFSETTO:+0100
TZNAME:CET
DTSTART:20251026T010000
END:STANDARD
BEGIN:DAYLIGHT
TZOFFSETFROM:+0100
TZOFFSETTO:+0200
TZNAME:CEST
DTSTART:20260329T010000
END:DAYLIGHT
BEGIN:STANDARD
TZOFFSETFROM:+0200
TZOFFSETTO:+0100
TZNAME:CET
DTSTART:20261025T010000
END:STANDARD
BEGIN:DAYLIGHT
TZOFFSETFROM:+0100
TZOFFSETTO:+0200
TZNAME:CEST
DTSTART:20270328T010000
END:DAYLIGHT
BEGIN:STANDARD
TZOFFSETFROM:+0200
TZOFFSETTO:+0100
TZNAME:CET
DTSTART:20271031T010000
END:STANDARD
END:VTIMEZONE
BEGIN:VEVENT
DTSTART;TZID=Europe/Berlin:20260930T193000
DTEND;TZID=Europe/Berlin:20260930T210000
DTSTAMP:20260421T132617
CREATED:20251217T214151Z
LAST-MODIFIED:20251217T214151Z
UID:632-1790796600-1790802000@aggerchor.com
SUMMARY:Chorprobe
DESCRIPTION:
URL:https://aggerchor.com/event/chorprobe-3426/
LOCATION:Wohnen & Pflege St. Josef | GFO Zentrum Engelskirchen\, Wohlandstraße 28\, Engelskirchen\, 51766\, Germany
END:VEVENT
BEGIN:VEVENT
DTSTART;TZID=Europe/Berlin:20261007T193000
DTEND;TZID=Europe/Berlin:20261007T210000
DTSTAMP:20260421T132617
CREATED:20251217T214229Z
LAST-MODIFIED:20251217T214229Z
UID:634-1791401400-1791406800@aggerchor.com
SUMMARY:Chorprobe
DESCRIPTION:
URL:https://aggerchor.com/event/chorprobe-3526/
LOCATION:Wohnen & Pflege St. Josef | GFO Zentrum Engelskirchen\, Wohlandstraße 28\, Engelskirchen\, 51766\, Germany
END:VEVENT
BEGIN:VEVENT
DTSTART;TZID=Europe/Berlin:20261014T193000
DTEND;TZID=Europe/Berlin:20261014T210000
DTSTAMP:20260421T132617
CREATED:20251217T214303Z
LAST-MODIFIED:20251217T214303Z
UID:636-1792006200-1792011600@aggerchor.com
SUMMARY:Chorprobe
DESCRIPTION:
URL:https://aggerchor.com/event/chorprobe-3626/
LOCATION:Wohnen & Pflege St. Josef | GFO Zentrum Engelskirchen\, Wohlandstraße 28\, Engelskirchen\, 51766\, Germany
END:VEVENT
BEGIN:VEVENT
DTSTART;TZID=Europe/Berlin:20261104T193000
DTEND;TZID=Europe/Berlin:20261104T210000
DTSTAMP:20260421T132617
CREATED:20251217T214358Z
LAST-MODIFIED:20251217T214358Z
UID:638-1793820600-1793826000@aggerchor.com
SUMMARY:Chorprobe
DESCRIPTION:
URL:https://aggerchor.com/event/chorprobe-3726/
LOCATION:Wohnen & Pflege St. Josef | GFO Zentrum Engelskirchen\, Wohlandstraße 28\, Engelskirchen\, 51766\, Germany
END:VEVENT
BEGIN:VEVENT
DTSTART;TZID=Europe/Berlin:20261111T193000
DTEND;TZID=Europe/Berlin:20261111T210000
DTSTAMP:20260421T132617
CREATED:20251217T214446Z
LAST-MODIFIED:20251217T214446Z
UID:640-1794425400-1794430800@aggerchor.com
SUMMARY:Chorprobe
DESCRIPTION:
URL:https://aggerchor.com/event/chorprobe-3826/
LOCATION:Wohnen & Pflege St. Josef | GFO Zentrum Engelskirchen\, Wohlandstraße 28\, Engelskirchen\, 51766\, Germany
END:VEVENT
BEGIN:VEVENT
DTSTART;TZID=Europe/Berlin:20261118T193000
DTEND;TZID=Europe/Berlin:20261118T210000
DTSTAMP:20260421T132617
CREATED:20251217T214526Z
LAST-MODIFIED:20251217T214526Z
UID:642-1795030200-1795035600@aggerchor.com
SUMMARY:Chorprobe
DESCRIPTION:
URL:https://aggerchor.com/event/chorprobe-3926/
LOCATION:Wohnen & Pflege St. Josef | GFO Zentrum Engelskirchen\, Wohlandstraße 28\, Engelskirchen\, 51766\, Germany
END:VEVENT
BEGIN:VEVENT
DTSTART;TZID=Europe/Berlin:20261125T193000
DTEND;TZID=Europe/Berlin:20261125T210000
DTSTAMP:20260421T132617
CREATED:20251217T214619Z
LAST-MODIFIED:20251217T214619Z
UID:644-1795635000-1795640400@aggerchor.com
SUMMARY:Chorprobe
DESCRIPTION:
URL:https://aggerchor.com/event/chorprobe-4026/
LOCATION:Wohnen & Pflege St. Josef | GFO Zentrum Engelskirchen\, Wohlandstraße 28\, Engelskirchen\, 51766\, Germany
END:VEVENT
BEGIN:VEVENT
DTSTART;TZID=Europe/Berlin:20261202T193000
DTEND;TZID=Europe/Berlin:20261202T210000
DTSTAMP:20260421T132617
CREATED:20251217T214658Z
LAST-MODIFIED:20251217T214658Z
UID:646-1796239800-1796245200@aggerchor.com
SUMMARY:Chorprobe
DESCRIPTION:
URL:https://aggerchor.com/event/chorprobe-4126/
LOCATION:Wohnen & Pflege St. Josef | GFO Zentrum Engelskirchen\, Wohlandstraße 28\, Engelskirchen\, 51766\, Germany
END:VEVENT
BEGIN:VEVENT
DTSTART;TZID=Europe/Berlin:20261209T163000
DTEND;TZID=Europe/Berlin:20261209T173000
DTSTAMP:20260421T132617
CREATED:20251217T214742Z
LAST-MODIFIED:20260409T095343Z
UID:648-1796833800-1796837400@aggerchor.com
SUMMARY:Weihnachtskonzert im St. Josef Seniorenheim
DESCRIPTION:
URL:https://aggerchor.com/event/chorprobe-4226/
LOCATION:Wohnen & Pflege St. Josef | GFO Zentrum Engelskirchen\, Wohlandstraße 28\, Engelskirchen\, 51766\, Germany
END:VEVENT
BEGIN:VEVENT
DTSTART;TZID=Europe/Berlin:20261216T193000
DTEND;TZID=Europe/Berlin:20261216T210000
DTSTAMP:20260421T132617
CREATED:20251217T214829Z
LAST-MODIFIED:20251217T214829Z
UID:650-1797449400-1797454800@aggerchor.com
SUMMARY:Chorprobe
DESCRIPTION:
URL:https://aggerchor.com/event/chorprobe-4326/
LOCATION:Wohnen & Pflege St. Josef | GFO Zentrum Engelskirchen\, Wohlandstraße 28\, Engelskirchen\, 51766\, Germany
END:VEVENT
END:VCALENDAR